BEGIN:VCALENDAR
VERSION:2.0
PRODID:-//Design40 - ECPv6.15.20//NONSGML v1.0//EN
CALSCALE:GREGORIAN
METHOD:PUBLISH
X-ORIGINAL-URL:https://design40.com
X-WR-CALDESC:Events for Design40
REFRESH-INTERVAL;VALUE=DURATION:PT1H
X-Robots-Tag:noindex
X-PUBLISHED-TTL:PT1H
BEGIN:VTIMEZONE
TZID:UTC
BEGIN:STANDARD
TZOFFSETFROM:+0000
TZOFFSETTO:+0000
TZNAME:UTC
DTSTART:20250101T000000
END:STANDARD
END:VTIMEZONE
BEGIN:VEVENT
DTSTART;TZID=UTC:20260413T080000
DTEND;TZID=UTC:20260413T170000
DTSTAMP:20260423T234557
CREATED:20260413T144333Z
LAST-MODIFIED:20260413T144333Z
UID:2098-1776067200-1776099600@design40.com
SUMMARY:Design 40 Website Launch
DESCRIPTION:This a video walkthrough of KONE offices in Nairobi Kenya. KONE is a global leader in the elevator and escalator industry. Design Forty Ltd. was given the entire interior and fit bout works to design and build in both their Nairobi and Mombasa branches in Kenya.
URL:https://design40.com/event/design-40-website-launch/
LOCATION:Safari Park\, Westlands\, Nairobi\, 00100\, Kenya
ATTACH;FMTTYPE=image/png:https://design40.com/wp-content/uploads/2026/04/1_5-Photo-2-1.png
END:VEVENT
END:VCALENDAR